BEGIN:VCALENDAR
VERSION:2.0
PRODID:-//pretix//Chaotikum_Pretix//
BEGIN:VTIMEZONE
TZID:Europe/Berlin
BEGIN:STANDARD
DTSTART:20001029T030000
RRULE:FREQ=YEARLY;BYDAY=-1SU;BYMONTH=10
TZNAME:CET
TZOFFSETFROM:+0200
TZOFFSETTO:+0100
END:STANDARD
BEGIN:DAYLIGHT
DTSTART:20000326T020000
RRULE:FREQ=YEARLY;BYDAY=-1SU;BYMONTH=3
TZNAME:CEST
TZOFFSETFROM:+0100
TZOFFSETTO:+0200
END:DAYLIGHT
END:VTIMEZONE
BEGIN:VEVENT
UID:pretix-chaotikum-5mincamp-0@pretix.chaotikum.org
DTSTART;TZID=Europe/Berlin:20230816T210000
DTEND;TZID=Europe/Berlin:20230816T230000
DESCRIPTION:Tickets: https://pretix.chaotikum.org/chaotikum/5mincamp/\nVera
 nstalter: Chaotikum e.V.
DTSTAMP:20260421T134118Z
LOCATION:Haecksen Workshop Zelt auf dem CCCamp2023
SUMMARY:5 Minuten Termine Auf dem CCCamp 2023
END:VEVENT
END:VCALENDAR
