BEGIN:VCALENDAR
VERSION:2.0
PRODID:-//pretix//Chaotikum_Pretix//
BEGIN:VTIMEZONE
TZID:Europe/Berlin
BEGIN:STANDARD
DTSTART:20001029T030000
RRULE:FREQ=YEARLY;BYDAY=-1SU;BYMONTH=10
TZNAME:CET
TZOFFSETFROM:+0200
TZOFFSETTO:+0100
END:STANDARD
BEGIN:DAYLIGHT
DTSTART:20000326T020000
RRULE:FREQ=YEARLY;BYDAY=-1SU;BYMONTH=3
TZNAME:CEST
TZOFFSETFROM:+0100
TZOFFSETTO:+0200
END:DAYLIGHT
END:VTIMEZONE
BEGIN:VEVENT
UID:pretix-chaotikum-dsgvoworkshop-0@pretix.chaotikum.org
DTSTART;TZID=Europe/Berlin:20250307T193000
DTEND;TZID=Europe/Berlin:20250307T220000
DESCRIPTION:Tickets: https://pretix.chaotikum.org/chaotikum/dsgvoworkshop/\
 nVeranstalter: Chaotikum e.V.
DTSTAMP:20260425T134748Z
LOCATION:Nobreakspace\nFackenburger Allee 11\n23554 Lübeck
SUMMARY:Auskunfstsrecht üben!
END:VEVENT
END:VCALENDAR
